BEGIN:VCALENDAR
VERSION:2.0
PRODID:-//MAS Youth Center of NJ - ECPv6.15.14//NONSGML v1.0//EN
CALSCALE:GREGORIAN
METHOD:PUBLISH
X-ORIGINAL-URL:https://mascentraljersey.org
X-WR-CALDESC:Events for MAS Youth Center of NJ
REFRESH-INTERVAL;VALUE=DURATION:PT1H
X-Robots-Tag:noindex
X-PUBLISHED-TTL:PT1H
BEGIN:VTIMEZONE
TZID:America/New_York
BEGIN:DAYLIGHT
TZOFFSETFROM:-0500
TZOFFSETTO:-0400
TZNAME:EDT
DTSTART:20220313T070000
END:DAYLIGHT
BEGIN:STANDARD
TZOFFSETFROM:-0400
TZOFFSETTO:-0500
TZNAME:EST
DTSTART:20221106T060000
END:STANDARD
BEGIN:DAYLIGHT
TZOFFSETFROM:-0500
TZOFFSETTO:-0400
TZNAME:EDT
DTSTART:20230312T070000
END:DAYLIGHT
BEGIN:STANDARD
TZOFFSETFROM:-0400
TZOFFSETTO:-0500
TZNAME:EST
DTSTART:20231105T060000
END:STANDARD
BEGIN:DAYLIGHT
TZOFFSETFROM:-0500
TZOFFSETTO:-0400
TZNAME:EDT
DTSTART:20240310T070000
END:DAYLIGHT
BEGIN:STANDARD
TZOFFSETFROM:-0400
TZOFFSETTO:-0500
TZNAME:EST
DTSTART:20241103T060000
END:STANDARD
BEGIN:DAYLIGHT
TZOFFSETFROM:-0500
TZOFFSETTO:-0400
TZNAME:EDT
DTSTART:20250309T070000
END:DAYLIGHT
BEGIN:STANDARD
TZOFFSETFROM:-0400
TZOFFSETTO:-0500
TZNAME:EST
DTSTART:20251102T060000
END:STANDARD
END:VTIMEZONE
BEGIN:VEVENT
DTSTART;TZID=America/New_York:20230217T203000
DTEND;TZID=America/New_York:20230217T213000
DTSTAMP:20260419T225128
CREATED:20230217T012807Z
LAST-MODIFIED:20240412T153818Z
UID:4254-1676665800-1676669400@mascentraljersey.org
SUMMARY:Brother's Quran Halaqa
DESCRIPTION:Every Friday\, Brother will be reviewing/reading from the Quran\, Monthly will be having an i’tikaf for our entire community with guest speakers\, Qiyam and more !
URL:https://mascentraljersey.org/event/brothers-quran-halaqa/
LOCATION:Men’s Musala\, 445 Georges Rd\, North Brunswick Township\, NJ\, 8905\, United States
CATEGORIES:Activities
ATTACH;FMTTYPE=image/jpeg:https://mascentraljersey.org/wp-content/uploads/2020/05/312193014_483037647183848_1647406040526423621_n-e1676753835695.jpg
END:VEVENT
BEGIN:VEVENT
DTSTART;TZID=America/New_York:20230217T203000
DTEND;TZID=America/New_York:20230217T213000
DTSTAMP:20260419T225128
CREATED:20230217T012807Z
LAST-MODIFIED:20240412T153818Z
UID:4254-1676665800-1676669400@mascentraljersey.org
SUMMARY:Brother's Quran Halaqa
DESCRIPTION:Every Friday\, Brother will be reviewing/reading from the Quran\, Monthly will be having an i’tikaf for our entire community with guest speakers\, Qiyam and more !
URL:https://mascentraljersey.org/event/brothers-quran-halaqa/
LOCATION:Men’s Musala\, 445 Georges Rd\, North Brunswick Township\, NJ\, 8905\, United States
CATEGORIES:Activities
ATTACH;FMTTYPE=image/jpeg:https://mascentraljersey.org/wp-content/uploads/2020/05/312193014_483037647183848_1647406040526423621_n-e1676753835695.jpg
END:VEVENT
BEGIN:VEVENT
DTSTART;TZID=America/New_York:20230217T203000
DTEND;TZID=America/New_York:20230217T213000
DTSTAMP:20260419T225128
CREATED:20230217T012807Z
LAST-MODIFIED:20240412T153818Z
UID:4254-1676665800-1676669400@mascentraljersey.org
SUMMARY:Brother's Quran Halaqa
DESCRIPTION:Every Friday\, Brother will be reviewing/reading from the Quran\, Monthly will be having an i’tikaf for our entire community with guest speakers\, Qiyam and more !
URL:https://mascentraljersey.org/event/brothers-quran-halaqa/
LOCATION:Men’s Musala\, 445 Georges Rd\, North Brunswick Township\, NJ\, 8905\, United States
CATEGORIES:Activities
ATTACH;FMTTYPE=image/jpeg:https://mascentraljersey.org/wp-content/uploads/2020/05/312193014_483037647183848_1647406040526423621_n-e1676753835695.jpg
END:VEVENT
BEGIN:VEVENT
DTSTART;TZID=America/New_York:20230217T203000
DTEND;TZID=America/New_York:20230217T213000
DTSTAMP:20260419T225128
CREATED:20230217T012807Z
LAST-MODIFIED:20240412T153818Z
UID:4254-1676665800-1676669400@mascentraljersey.org
SUMMARY:Brother's Quran Halaqa
DESCRIPTION:Every Friday\, Brother will be reviewing/reading from the Quran\, Monthly will be having an i’tikaf for our entire community with guest speakers\, Qiyam and more !
URL:https://mascentraljersey.org/event/brothers-quran-halaqa/
LOCATION:Men’s Musala\, 445 Georges Rd\, North Brunswick Township\, NJ\, 8905\, United States
CATEGORIES:Activities
ATTACH;FMTTYPE=image/jpeg:https://mascentraljersey.org/wp-content/uploads/2020/05/312193014_483037647183848_1647406040526423621_n-e1676753835695.jpg
END:VEVENT
BEGIN:VEVENT
DTSTART;TZID=America/New_York:20230217T203000
DTEND;TZID=America/New_York:20230217T213000
DTSTAMP:20260419T225128
CREATED:20230217T012807Z
LAST-MODIFIED:20240412T153818Z
UID:4254-1676665800-1676669400@mascentraljersey.org
SUMMARY:Brother's Quran Halaqa
DESCRIPTION:Every Friday\, Brother will be reviewing/reading from the Quran\, Monthly will be having an i’tikaf for our entire community with guest speakers\, Qiyam and more !
URL:https://mascentraljersey.org/event/brothers-quran-halaqa/
LOCATION:Men’s Musala\, 445 Georges Rd\, North Brunswick Township\, NJ\, 8905\, United States
CATEGORIES:Activities
ATTACH;FMTTYPE=image/jpeg:https://mascentraljersey.org/wp-content/uploads/2020/05/312193014_483037647183848_1647406040526423621_n-e1676753835695.jpg
END:VEVENT
BEGIN:VEVENT
DTSTART;TZID=America/New_York:20230217T203000
DTEND;TZID=America/New_York:20230217T213000
DTSTAMP:20260419T225128
CREATED:20230217T012807Z
LAST-MODIFIED:20240412T153818Z
UID:4254-1676665800-1676669400@mascentraljersey.org
SUMMARY:Brother's Quran Halaqa
DESCRIPTION:Every Friday\, Brother will be reviewing/reading from the Quran\, Monthly will be having an i’tikaf for our entire community with guest speakers\, Qiyam and more !
URL:https://mascentraljersey.org/event/brothers-quran-halaqa/
LOCATION:Men’s Musala\, 445 Georges Rd\, North Brunswick Township\, NJ\, 8905\, United States
CATEGORIES:Activities
ATTACH;FMTTYPE=image/jpeg:https://mascentraljersey.org/wp-content/uploads/2020/05/312193014_483037647183848_1647406040526423621_n-e1676753835695.jpg
END:VEVENT
BEGIN:VEVENT
DTSTART;TZID=America/New_York:20230217T203000
DTEND;TZID=America/New_York:20230217T213000
DTSTAMP:20260419T225128
CREATED:20230217T012807Z
LAST-MODIFIED:20240412T153818Z
UID:4254-1676665800-1676669400@mascentraljersey.org
SUMMARY:Brother's Quran Halaqa
DESCRIPTION:Every Friday\, Brother will be reviewing/reading from the Quran\, Monthly will be having an i’tikaf for our entire community with guest speakers\, Qiyam and more !
URL:https://mascentraljersey.org/event/brothers-quran-halaqa/
LOCATION:Men’s Musala\, 445 Georges Rd\, North Brunswick Township\, NJ\, 8905\, United States
CATEGORIES:Activities
ATTACH;FMTTYPE=image/jpeg:https://mascentraljersey.org/wp-content/uploads/2020/05/312193014_483037647183848_1647406040526423621_n-e1676753835695.jpg
END:VEVENT
BEGIN:VEVENT
DTSTART;TZID=America/New_York:20230217T203000
DTEND;TZID=America/New_York:20230217T213000
DTSTAMP:20260419T225128
CREATED:20230217T012807Z
LAST-MODIFIED:20240412T153818Z
UID:4254-1676665800-1676669400@mascentraljersey.org
SUMMARY:Brother's Quran Halaqa
DESCRIPTION:Every Friday\, Brother will be reviewing/reading from the Quran\, Monthly will be having an i’tikaf for our entire community with guest speakers\, Qiyam and more !
URL:https://mascentraljersey.org/event/brothers-quran-halaqa/
LOCATION:Men’s Musala\, 445 Georges Rd\, North Brunswick Township\, NJ\, 8905\, United States
CATEGORIES:Activities
ATTACH;FMTTYPE=image/jpeg:https://mascentraljersey.org/wp-content/uploads/2020/05/312193014_483037647183848_1647406040526423621_n-e1676753835695.jpg
END:VEVENT
BEGIN:VEVENT
DTSTART;TZID=America/New_York:20230217T203000
DTEND;TZID=America/New_York:20230217T213000
DTSTAMP:20260419T225128
CREATED:20230217T012807Z
LAST-MODIFIED:20240412T153818Z
UID:4254-1676665800-1676669400@mascentraljersey.org
SUMMARY:Brother's Quran Halaqa
DESCRIPTION:Every Friday\, Brother will be reviewing/reading from the Quran\, Monthly will be having an i’tikaf for our entire community with guest speakers\, Qiyam and more !
URL:https://mascentraljersey.org/event/brothers-quran-halaqa/
LOCATION:Men’s Musala\, 445 Georges Rd\, North Brunswick Township\, NJ\, 8905\, United States
CATEGORIES:Activities
ATTACH;FMTTYPE=image/jpeg:https://mascentraljersey.org/wp-content/uploads/2020/05/312193014_483037647183848_1647406040526423621_n-e1676753835695.jpg
END:VEVENT
BEGIN:VEVENT
DTSTART;TZID=America/New_York:20230217T203000
DTEND;TZID=America/New_York:20230217T213000
DTSTAMP:20260419T225128
CREATED:20230217T012807Z
LAST-MODIFIED:20240412T153818Z
UID:4254-1676665800-1676669400@mascentraljersey.org
SUMMARY:Brother's Quran Halaqa
DESCRIPTION:Every Friday\, Brother will be reviewing/reading from the Quran\, Monthly will be having an i’tikaf for our entire community with guest speakers\, Qiyam and more !
URL:https://mascentraljersey.org/event/brothers-quran-halaqa/
LOCATION:Men’s Musala\, 445 Georges Rd\, North Brunswick Township\, NJ\, 8905\, United States
CATEGORIES:Activities
ATTACH;FMTTYPE=image/jpeg:https://mascentraljersey.org/wp-content/uploads/2020/05/312193014_483037647183848_1647406040526423621_n-e1676753835695.jpg
END:VEVENT
BEGIN:VEVENT
DTSTART;TZID=America/New_York:20230217T203000
DTEND;TZID=America/New_York:20230217T213000
DTSTAMP:20260419T225128
CREATED:20230217T012807Z
LAST-MODIFIED:20240412T153818Z
UID:4254-1676665800-1676669400@mascentraljersey.org
SUMMARY:Brother's Quran Halaqa
DESCRIPTION:Every Friday\, Brother will be reviewing/reading from the Quran\, Monthly will be having an i’tikaf for our entire community with guest speakers\, Qiyam and more !
URL:https://mascentraljersey.org/event/brothers-quran-halaqa/
LOCATION:Men’s Musala\, 445 Georges Rd\, North Brunswick Township\, NJ\, 8905\, United States
CATEGORIES:Activities
ATTACH;FMTTYPE=image/jpeg:https://mascentraljersey.org/wp-content/uploads/2020/05/312193014_483037647183848_1647406040526423621_n-e1676753835695.jpg
END:VEVENT
BEGIN:VEVENT
DTSTART;TZID=America/New_York:20240216T213000
DTEND;TZID=America/New_York:20240216T223000
DTSTAMP:20260419T225128
CREATED:20240412T153911Z
LAST-MODIFIED:20240412T153911Z
UID:5910-1708119000-1708122600@mascentraljersey.org
SUMMARY:Brother's Quran Halaqa
DESCRIPTION:Every Friday\, Brother will be reviewing/reading from the Quran\, Monthly will be having an i’tikaf for our entire community with guest speakers\, Qiyam and more !
URL:https://mascentraljersey.org/event/brothers-quran-halaqa-2/
LOCATION:Men’s Musala\, 445 Georges Rd\, North Brunswick Township\, NJ\, 8905\, United States
CATEGORIES:Activities
ATTACH;FMTTYPE=image/jpeg:https://mascentraljersey.org/wp-content/uploads/2020/05/312193014_483037647183848_1647406040526423621_n-e1676753835695.jpg
END:VEVENT
BEGIN:VEVENT
DTSTART;TZID=America/New_York:20240216T213000
DTEND;TZID=America/New_York:20240216T223000
DTSTAMP:20260419T225128
CREATED:20240412T153911Z
LAST-MODIFIED:20240412T153911Z
UID:5910-1708119000-1708122600@mascentraljersey.org
SUMMARY:Brother's Quran Halaqa
DESCRIPTION:Every Friday\, Brother will be reviewing/reading from the Quran\, Monthly will be having an i’tikaf for our entire community with guest speakers\, Qiyam and more !
URL:https://mascentraljersey.org/event/brothers-quran-halaqa-2/
LOCATION:Men’s Musala\, 445 Georges Rd\, North Brunswick Township\, NJ\, 8905\, United States
CATEGORIES:Activities
ATTACH;FMTTYPE=image/jpeg:https://mascentraljersey.org/wp-content/uploads/2020/05/312193014_483037647183848_1647406040526423621_n-e1676753835695.jpg
END:VEVENT
BEGIN:VEVENT
DTSTART;TZID=America/New_York:20240216T213000
DTEND;TZID=America/New_York:20240216T223000
DTSTAMP:20260419T225128
CREATED:20240412T153911Z
LAST-MODIFIED:20240412T153911Z
UID:5910-1708119000-1708122600@mascentraljersey.org
SUMMARY:Brother's Quran Halaqa
DESCRIPTION:Every Friday\, Brother will be reviewing/reading from the Quran\, Monthly will be having an i’tikaf for our entire community with guest speakers\, Qiyam and more !
URL:https://mascentraljersey.org/event/brothers-quran-halaqa-2/
LOCATION:Men’s Musala\, 445 Georges Rd\, North Brunswick Township\, NJ\, 8905\, United States
CATEGORIES:Activities
ATTACH;FMTTYPE=image/jpeg:https://mascentraljersey.org/wp-content/uploads/2020/05/312193014_483037647183848_1647406040526423621_n-e1676753835695.jpg
END:VEVENT
BEGIN:VEVENT
DTSTART;TZID=America/New_York:20240216T213000
DTEND;TZID=America/New_York:20240216T223000
DTSTAMP:20260419T225128
CREATED:20240412T153911Z
LAST-MODIFIED:20240412T153911Z
UID:5910-1708119000-1708122600@mascentraljersey.org
SUMMARY:Brother's Quran Halaqa
DESCRIPTION:Every Friday\, Brother will be reviewing/reading from the Quran\, Monthly will be having an i’tikaf for our entire community with guest speakers\, Qiyam and more !
URL:https://mascentraljersey.org/event/brothers-quran-halaqa-2/
LOCATION:Men’s Musala\, 445 Georges Rd\, North Brunswick Township\, NJ\, 8905\, United States
CATEGORIES:Activities
ATTACH;FMTTYPE=image/jpeg:https://mascentraljersey.org/wp-content/uploads/2020/05/312193014_483037647183848_1647406040526423621_n-e1676753835695.jpg
END:VEVENT
BEGIN:VEVENT
DTSTART;TZID=America/New_York:20240216T213000
DTEND;TZID=America/New_York:20240216T223000
DTSTAMP:20260419T225128
CREATED:20240412T153911Z
LAST-MODIFIED:20240412T153911Z
UID:5910-1708119000-1708122600@mascentraljersey.org
SUMMARY:Brother's Quran Halaqa
DESCRIPTION:Every Friday\, Brother will be reviewing/reading from the Quran\, Monthly will be having an i’tikaf for our entire community with guest speakers\, Qiyam and more !
URL:https://mascentraljersey.org/event/brothers-quran-halaqa-2/
LOCATION:Men’s Musala\, 445 Georges Rd\, North Brunswick Township\, NJ\, 8905\, United States
CATEGORIES:Activities
ATTACH;FMTTYPE=image/jpeg:https://mascentraljersey.org/wp-content/uploads/2020/05/312193014_483037647183848_1647406040526423621_n-e1676753835695.jpg
END:VEVENT
BEGIN:VEVENT
DTSTART;TZID=America/New_York:20240216T213000
DTEND;TZID=America/New_York:20240216T223000
DTSTAMP:20260419T225128
CREATED:20240412T153911Z
LAST-MODIFIED:20240412T153911Z
UID:5910-1708119000-1708122600@mascentraljersey.org
SUMMARY:Brother's Quran Halaqa
DESCRIPTION:Every Friday\, Brother will be reviewing/reading from the Quran\, Monthly will be having an i’tikaf for our entire community with guest speakers\, Qiyam and more !
URL:https://mascentraljersey.org/event/brothers-quran-halaqa-2/
LOCATION:Men’s Musala\, 445 Georges Rd\, North Brunswick Township\, NJ\, 8905\, United States
CATEGORIES:Activities
ATTACH;FMTTYPE=image/jpeg:https://mascentraljersey.org/wp-content/uploads/2020/05/312193014_483037647183848_1647406040526423621_n-e1676753835695.jpg
END:VEVENT
BEGIN:VEVENT
DTSTART;TZID=America/New_York:20240216T213000
DTEND;TZID=America/New_York:20240216T223000
DTSTAMP:20260419T225128
CREATED:20240412T153911Z
LAST-MODIFIED:20240412T153911Z
UID:5910-1708119000-1708122600@mascentraljersey.org
SUMMARY:Brother's Quran Halaqa
DESCRIPTION:Every Friday\, Brother will be reviewing/reading from the Quran\, Monthly will be having an i’tikaf for our entire community with guest speakers\, Qiyam and more !
URL:https://mascentraljersey.org/event/brothers-quran-halaqa-2/
LOCATION:Men’s Musala\, 445 Georges Rd\, North Brunswick Township\, NJ\, 8905\, United States
CATEGORIES:Activities
ATTACH;FMTTYPE=image/jpeg:https://mascentraljersey.org/wp-content/uploads/2020/05/312193014_483037647183848_1647406040526423621_n-e1676753835695.jpg
END:VEVENT
BEGIN:VEVENT
DTSTART;TZID=America/New_York:20240216T213000
DTEND;TZID=America/New_York:20240216T223000
DTSTAMP:20260419T225128
CREATED:20240412T153911Z
LAST-MODIFIED:20240412T153911Z
UID:5910-1708119000-1708122600@mascentraljersey.org
SUMMARY:Brother's Quran Halaqa
DESCRIPTION:Every Friday\, Brother will be reviewing/reading from the Quran\, Monthly will be having an i’tikaf for our entire community with guest speakers\, Qiyam and more !
URL:https://mascentraljersey.org/event/brothers-quran-halaqa-2/
LOCATION:Men’s Musala\, 445 Georges Rd\, North Brunswick Township\, NJ\, 8905\, United States
CATEGORIES:Activities
ATTACH;FMTTYPE=image/jpeg:https://mascentraljersey.org/wp-content/uploads/2020/05/312193014_483037647183848_1647406040526423621_n-e1676753835695.jpg
END:VEVENT
BEGIN:VEVENT
DTSTART;TZID=America/New_York:20240406T220000
DTEND;TZID=America/New_York:20240407T040000
DTSTAMP:20260419T225128
CREATED:20240330T160530Z
LAST-MODIFIED:20240404T023611Z
UID:5723-1712440800-1712462400@mascentraljersey.org
SUMMARY:SuhoorFest
DESCRIPTION:Register Here
URL:https://mascentraljersey.org/event/suhoorfest/
LOCATION:Fenced Parking Lot\, 445 Georges Rd\, North Brunswick\, 8905\, United States
ATTACH;FMTTYPE=image/webp:https://mascentraljersey.org/wp-content/uploads/2024/03/Suhoorfest.webp
END:VEVENT
BEGIN:VEVENT
DTSTART;TZID=America/New_York:20240216T213000
DTEND;TZID=America/New_York:20240216T223000
DTSTAMP:20260419T225128
CREATED:20240412T153911Z
LAST-MODIFIED:20240412T153911Z
UID:5910-1708119000-1708122600@mascentraljersey.org
SUMMARY:Brother's Quran Halaqa
DESCRIPTION:Every Friday\, Brother will be reviewing/reading from the Quran\, Monthly will be having an i’tikaf for our entire community with guest speakers\, Qiyam and more !
URL:https://mascentraljersey.org/event/brothers-quran-halaqa-2/
LOCATION:Men’s Musala\, 445 Georges Rd\, North Brunswick Township\, NJ\, 8905\, United States
CATEGORIES:Activities
ATTACH;FMTTYPE=image/jpeg:https://mascentraljersey.org/wp-content/uploads/2020/05/312193014_483037647183848_1647406040526423621_n-e1676753835695.jpg
END:VEVENT
BEGIN:VEVENT
DTSTART;TZID=America/New_York:20240216T213000
DTEND;TZID=America/New_York:20240216T223000
DTSTAMP:20260419T225128
CREATED:20240412T153911Z
LAST-MODIFIED:20240412T153911Z
UID:5910-1708119000-1708122600@mascentraljersey.org
SUMMARY:Brother's Quran Halaqa
DESCRIPTION:Every Friday\, Brother will be reviewing/reading from the Quran\, Monthly will be having an i’tikaf for our entire community with guest speakers\, Qiyam and more !
URL:https://mascentraljersey.org/event/brothers-quran-halaqa-2/
LOCATION:Men’s Musala\, 445 Georges Rd\, North Brunswick Township\, NJ\, 8905\, United States
CATEGORIES:Activities
ATTACH;FMTTYPE=image/jpeg:https://mascentraljersey.org/wp-content/uploads/2020/05/312193014_483037647183848_1647406040526423621_n-e1676753835695.jpg
END:VEVENT
BEGIN:VEVENT
DTSTART;TZID=America/New_York:20240216T213000
DTEND;TZID=America/New_York:20240216T223000
DTSTAMP:20260419T225128
CREATED:20240412T153911Z
LAST-MODIFIED:20240412T153911Z
UID:5910-1708119000-1708122600@mascentraljersey.org
SUMMARY:Brother's Quran Halaqa
DESCRIPTION:Every Friday\, Brother will be reviewing/reading from the Quran\, Monthly will be having an i’tikaf for our entire community with guest speakers\, Qiyam and more !
URL:https://mascentraljersey.org/event/brothers-quran-halaqa-2/
LOCATION:Men’s Musala\, 445 Georges Rd\, North Brunswick Township\, NJ\, 8905\, United States
CATEGORIES:Activities
ATTACH;FMTTYPE=image/jpeg:https://mascentraljersey.org/wp-content/uploads/2020/05/312193014_483037647183848_1647406040526423621_n-e1676753835695.jpg
END:VEVENT
BEGIN:VEVENT
DTSTART;TZID=America/New_York:20240216T213000
DTEND;TZID=America/New_York:20240216T223000
DTSTAMP:20260419T225128
CREATED:20240412T153911Z
LAST-MODIFIED:20240412T153911Z
UID:5910-1708119000-1708122600@mascentraljersey.org
SUMMARY:Brother's Quran Halaqa
DESCRIPTION:Every Friday\, Brother will be reviewing/reading from the Quran\, Monthly will be having an i’tikaf for our entire community with guest speakers\, Qiyam and more !
URL:https://mascentraljersey.org/event/brothers-quran-halaqa-2/
LOCATION:Men’s Musala\, 445 Georges Rd\, North Brunswick Township\, NJ\, 8905\, United States
CATEGORIES:Activities
ATTACH;FMTTYPE=image/jpeg:https://mascentraljersey.org/wp-content/uploads/2020/05/312193014_483037647183848_1647406040526423621_n-e1676753835695.jpg
END:VEVENT
BEGIN:VEVENT
DTSTART;TZID=America/New_York:20240216T213000
DTEND;TZID=America/New_York:20240216T223000
DTSTAMP:20260419T225128
CREATED:20240412T153911Z
LAST-MODIFIED:20240412T153911Z
UID:5910-1708119000-1708122600@mascentraljersey.org
SUMMARY:Brother's Quran Halaqa
DESCRIPTION:Every Friday\, Brother will be reviewing/reading from the Quran\, Monthly will be having an i’tikaf for our entire community with guest speakers\, Qiyam and more !
URL:https://mascentraljersey.org/event/brothers-quran-halaqa-2/
LOCATION:Men’s Musala\, 445 Georges Rd\, North Brunswick Township\, NJ\, 8905\, United States
CATEGORIES:Activities
ATTACH;FMTTYPE=image/jpeg:https://mascentraljersey.org/wp-content/uploads/2020/05/312193014_483037647183848_1647406040526423621_n-e1676753835695.jpg
END:VEVENT
BEGIN:VEVENT
DTSTART;TZID=America/New_York:20240216T213000
DTEND;TZID=America/New_York:20240216T223000
DTSTAMP:20260419T225129
CREATED:20240412T153911Z
LAST-MODIFIED:20240412T153911Z
UID:5910-1708119000-1708122600@mascentraljersey.org
SUMMARY:Brother's Quran Halaqa
DESCRIPTION:Every Friday\, Brother will be reviewing/reading from the Quran\, Monthly will be having an i’tikaf for our entire community with guest speakers\, Qiyam and more !
URL:https://mascentraljersey.org/event/brothers-quran-halaqa-2/
LOCATION:Men’s Musala\, 445 Georges Rd\, North Brunswick Township\, NJ\, 8905\, United States
CATEGORIES:Activities
ATTACH;FMTTYPE=image/jpeg:https://mascentraljersey.org/wp-content/uploads/2020/05/312193014_483037647183848_1647406040526423621_n-e1676753835695.jpg
END:VEVENT
BEGIN:VEVENT
DTSTART;VALUE=DATE:20240525
DTEND;VALUE=DATE:20240528
DTSTAMP:20260419T225129
CREATED:20240508T075358Z
LAST-MODIFIED:20250119T210417Z
UID:6199-1716595200-1716854399@mascentraljersey.org
SUMMARY:ICNA-MAS 2024 Convention
DESCRIPTION:
URL:https://mascentraljersey.org/event/icna-mas-2024-convention/
LOCATION:Baltimore\, Baltimore\, MD\, United States
CATEGORIES:Community Events
ATTACH;FMTTYPE=image/jpeg:https://mascentraljersey.org/wp-content/uploads/2024/05/ICNA-MAS-2024.jpg
END:VEVENT
BEGIN:VEVENT
DTSTART;TZID=America/New_York:20240216T213000
DTEND;TZID=America/New_York:20240216T223000
DTSTAMP:20260419T225129
CREATED:20240412T153911Z
LAST-MODIFIED:20240412T153911Z
UID:5910-1708119000-1708122600@mascentraljersey.org
SUMMARY:Brother's Quran Halaqa
DESCRIPTION:Every Friday\, Brother will be reviewing/reading from the Quran\, Monthly will be having an i’tikaf for our entire community with guest speakers\, Qiyam and more !
URL:https://mascentraljersey.org/event/brothers-quran-halaqa-2/
LOCATION:Men’s Musala\, 445 Georges Rd\, North Brunswick Township\, NJ\, 8905\, United States
CATEGORIES:Activities
ATTACH;FMTTYPE=image/jpeg:https://mascentraljersey.org/wp-content/uploads/2020/05/312193014_483037647183848_1647406040526423621_n-e1676753835695.jpg
END:VEVENT
BEGIN:VEVENT
DTSTART;TZID=America/New_York:20240216T213000
DTEND;TZID=America/New_York:20240216T223000
DTSTAMP:20260419T225129
CREATED:20240412T153911Z
LAST-MODIFIED:20240412T153911Z
UID:5910-1708119000-1708122600@mascentraljersey.org
SUMMARY:Brother's Quran Halaqa
DESCRIPTION:Every Friday\, Brother will be reviewing/reading from the Quran\, Monthly will be having an i’tikaf for our entire community with guest speakers\, Qiyam and more !
URL:https://mascentraljersey.org/event/brothers-quran-halaqa-2/
LOCATION:Men’s Musala\, 445 Georges Rd\, North Brunswick Township\, NJ\, 8905\, United States
CATEGORIES:Activities
ATTACH;FMTTYPE=image/jpeg:https://mascentraljersey.org/wp-content/uploads/2020/05/312193014_483037647183848_1647406040526423621_n-e1676753835695.jpg
END:VEVENT
BEGIN:VEVENT
DTSTART;TZID=America/New_York:20240216T213000
DTEND;TZID=America/New_York:20240216T223000
DTSTAMP:20260419T225129
CREATED:20240412T153911Z
LAST-MODIFIED:20240412T153911Z
UID:5910-1708119000-1708122600@mascentraljersey.org
SUMMARY:Brother's Quran Halaqa
DESCRIPTION:Every Friday\, Brother will be reviewing/reading from the Quran\, Monthly will be having an i’tikaf for our entire community with guest speakers\, Qiyam and more !
URL:https://mascentraljersey.org/event/brothers-quran-halaqa-2/
LOCATION:Men’s Musala\, 445 Georges Rd\, North Brunswick Township\, NJ\, 8905\, United States
CATEGORIES:Activities
ATTACH;FMTTYPE=image/jpeg:https://mascentraljersey.org/wp-content/uploads/2020/05/312193014_483037647183848_1647406040526423621_n-e1676753835695.jpg
END:VEVENT
END:VCALENDAR