BEGIN:VCALENDAR
VERSION:2.0
PRODID:-//MAS Youth Center of NJ - ECPv6.15.14//NONSGML v1.0//EN
CALSCALE:GREGORIAN
METHOD:PUBLISH
X-WR-CALNAME:MAS Youth Center of NJ
X-ORIGINAL-URL:https://mascentraljersey.org
X-WR-CALDESC:Events for MAS Youth Center of NJ
REFRESH-INTERVAL;VALUE=DURATION:PT1H
X-Robots-Tag:noindex
X-PUBLISHED-TTL:PT1H
BEGIN:VTIMEZONE
TZID:America/New_York
BEGIN:DAYLIGHT
TZOFFSETFROM:-0500
TZOFFSETTO:-0400
TZNAME:EDT
DTSTART:20240310T070000
END:DAYLIGHT
BEGIN:STANDARD
TZOFFSETFROM:-0400
TZOFFSETTO:-0500
TZNAME:EST
DTSTART:20241103T060000
END:STANDARD
BEGIN:DAYLIGHT
TZOFFSETFROM:-0500
TZOFFSETTO:-0400
TZNAME:EDT
DTSTART:20250309T070000
END:DAYLIGHT
BEGIN:STANDARD
TZOFFSETFROM:-0400
TZOFFSETTO:-0500
TZNAME:EST
DTSTART:20251102T060000
END:STANDARD
BEGIN:DAYLIGHT
TZOFFSETFROM:-0500
TZOFFSETTO:-0400
TZNAME:EDT
DTSTART:20260308T070000
END:DAYLIGHT
BEGIN:STANDARD
TZOFFSETFROM:-0400
TZOFFSETTO:-0500
TZNAME:EST
DTSTART:20261101T060000
END:STANDARD
END:VTIMEZONE
BEGIN:VEVENT
DTSTART;TZID=America/New_York:20250121T190000
DTEND;TZID=America/New_York:20250121T203000
DTSTAMP:20260420T033744
CREATED:20250119T215547Z
LAST-MODIFIED:20250119T215547Z
UID:7068-1737486000-1737491400@mascentraljersey.org
SUMMARY:College and Young Professional Sisters' Halaqa
DESCRIPTION:
URL:https://mascentraljersey.org/event/college-and-young-professional-sisters-halaqa/
LOCATION:Youth Lounge 2nd Flr\, 445 Georges Rd\, North Brunswick Township\, NJ\, 8905\, United States
CATEGORIES:Youth
ATTACH;FMTTYPE=image/jpeg:https://mascentraljersey.org/wp-content/uploads/2024/12/halaqa-1.jpg
END:VEVENT
BEGIN:VEVENT
DTSTART;TZID=America/New_York:20250121T190000
DTEND;TZID=America/New_York:20250121T203000
DTSTAMP:20260420T033744
CREATED:20250119T215807Z
LAST-MODIFIED:20250119T215807Z
UID:7071-1737486000-1737491400@mascentraljersey.org
SUMMARY:College and Young Professional Brothers
DESCRIPTION:
URL:https://mascentraljersey.org/event/college-and-young-professional-brothers/
LOCATION:Youth Lounge 2nd Flr\, 445 Georges Rd\, North Brunswick Township\, NJ\, 8905\, United States
CATEGORIES:Youth
ATTACH;FMTTYPE=image/jpeg:https://mascentraljersey.org/wp-content/uploads/2024/12/muslim-mens-collective.jpg
END:VEVENT
BEGIN:VEVENT
DTSTART;TZID=America/New_York:20250121T190000
DTEND;TZID=America/New_York:20250121T203000
DTSTAMP:20260420T033744
CREATED:20250119T215547Z
LAST-MODIFIED:20250119T215547Z
UID:7068-1737486000-1737491400@mascentraljersey.org
SUMMARY:College and Young Professional Sisters' Halaqa
DESCRIPTION:
URL:https://mascentraljersey.org/event/college-and-young-professional-sisters-halaqa/
LOCATION:Youth Lounge 2nd Flr\, 445 Georges Rd\, North Brunswick Township\, NJ\, 8905\, United States
CATEGORIES:Youth
ATTACH;FMTTYPE=image/jpeg:https://mascentraljersey.org/wp-content/uploads/2024/12/halaqa-1.jpg
END:VEVENT
BEGIN:VEVENT
DTSTART;TZID=America/New_York:20250121T190000
DTEND;TZID=America/New_York:20250121T203000
DTSTAMP:20260420T033744
CREATED:20250119T215807Z
LAST-MODIFIED:20250119T215807Z
UID:7071-1737486000-1737491400@mascentraljersey.org
SUMMARY:College and Young Professional Brothers
DESCRIPTION:
URL:https://mascentraljersey.org/event/college-and-young-professional-brothers/
LOCATION:Youth Lounge 2nd Flr\, 445 Georges Rd\, North Brunswick Township\, NJ\, 8905\, United States
CATEGORIES:Youth
ATTACH;FMTTYPE=image/jpeg:https://mascentraljersey.org/wp-content/uploads/2024/12/muslim-mens-collective.jpg
END:VEVENT
BEGIN:VEVENT
DTSTART;TZID=America/New_York:20250121T190000
DTEND;TZID=America/New_York:20250121T203000
DTSTAMP:20260420T033744
CREATED:20250119T215547Z
LAST-MODIFIED:20250119T215547Z
UID:7068-1737486000-1737491400@mascentraljersey.org
SUMMARY:College and Young Professional Sisters' Halaqa
DESCRIPTION:
URL:https://mascentraljersey.org/event/college-and-young-professional-sisters-halaqa/
LOCATION:Youth Lounge 2nd Flr\, 445 Georges Rd\, North Brunswick Township\, NJ\, 8905\, United States
CATEGORIES:Youth
ATTACH;FMTTYPE=image/jpeg:https://mascentraljersey.org/wp-content/uploads/2024/12/halaqa-1.jpg
END:VEVENT
BEGIN:VEVENT
DTSTART;TZID=America/New_York:20250121T190000
DTEND;TZID=America/New_York:20250121T203000
DTSTAMP:20260420T033744
CREATED:20250119T215807Z
LAST-MODIFIED:20250119T215807Z
UID:7071-1737486000-1737491400@mascentraljersey.org
SUMMARY:College and Young Professional Brothers
DESCRIPTION:
URL:https://mascentraljersey.org/event/college-and-young-professional-brothers/
LOCATION:Youth Lounge 2nd Flr\, 445 Georges Rd\, North Brunswick Township\, NJ\, 8905\, United States
CATEGORIES:Youth
ATTACH;FMTTYPE=image/jpeg:https://mascentraljersey.org/wp-content/uploads/2024/12/muslim-mens-collective.jpg
END:VEVENT
BEGIN:VEVENT
DTSTART;TZID=America/New_York:20250121T190000
DTEND;TZID=America/New_York:20250121T203000
DTSTAMP:20260420T033744
CREATED:20250119T215547Z
LAST-MODIFIED:20250119T215547Z
UID:7068-1737486000-1737491400@mascentraljersey.org
SUMMARY:College and Young Professional Sisters' Halaqa
DESCRIPTION:
URL:https://mascentraljersey.org/event/college-and-young-professional-sisters-halaqa/
LOCATION:Youth Lounge 2nd Flr\, 445 Georges Rd\, North Brunswick Township\, NJ\, 8905\, United States
CATEGORIES:Youth
ATTACH;FMTTYPE=image/jpeg:https://mascentraljersey.org/wp-content/uploads/2024/12/halaqa-1.jpg
END:VEVENT
BEGIN:VEVENT
DTSTART;TZID=America/New_York:20250121T190000
DTEND;TZID=America/New_York:20250121T203000
DTSTAMP:20260420T033744
CREATED:20250119T215807Z
LAST-MODIFIED:20250119T215807Z
UID:7071-1737486000-1737491400@mascentraljersey.org
SUMMARY:College and Young Professional Brothers
DESCRIPTION:
URL:https://mascentraljersey.org/event/college-and-young-professional-brothers/
LOCATION:Youth Lounge 2nd Flr\, 445 Georges Rd\, North Brunswick Township\, NJ\, 8905\, United States
CATEGORIES:Youth
ATTACH;FMTTYPE=image/jpeg:https://mascentraljersey.org/wp-content/uploads/2024/12/muslim-mens-collective.jpg
END:VEVENT
BEGIN:VEVENT
DTSTART;TZID=America/New_York:20250121T190000
DTEND;TZID=America/New_York:20250121T203000
DTSTAMP:20260420T033744
CREATED:20250119T215547Z
LAST-MODIFIED:20250119T215547Z
UID:7068-1737486000-1737491400@mascentraljersey.org
SUMMARY:College and Young Professional Sisters' Halaqa
DESCRIPTION:
URL:https://mascentraljersey.org/event/college-and-young-professional-sisters-halaqa/
LOCATION:Youth Lounge 2nd Flr\, 445 Georges Rd\, North Brunswick Township\, NJ\, 8905\, United States
CATEGORIES:Youth
ATTACH;FMTTYPE=image/jpeg:https://mascentraljersey.org/wp-content/uploads/2024/12/halaqa-1.jpg
END:VEVENT
BEGIN:VEVENT
DTSTART;TZID=America/New_York:20250121T190000
DTEND;TZID=America/New_York:20250121T203000
DTSTAMP:20260420T033744
CREATED:20250119T215807Z
LAST-MODIFIED:20250119T215807Z
UID:7071-1737486000-1737491400@mascentraljersey.org
SUMMARY:College and Young Professional Brothers
DESCRIPTION:
URL:https://mascentraljersey.org/event/college-and-young-professional-brothers/
LOCATION:Youth Lounge 2nd Flr\, 445 Georges Rd\, North Brunswick Township\, NJ\, 8905\, United States
CATEGORIES:Youth
ATTACH;FMTTYPE=image/jpeg:https://mascentraljersey.org/wp-content/uploads/2024/12/muslim-mens-collective.jpg
END:VEVENT
BEGIN:VEVENT
DTSTART;TZID=America/New_York:20250121T190000
DTEND;TZID=America/New_York:20250121T203000
DTSTAMP:20260420T033744
CREATED:20250119T215547Z
LAST-MODIFIED:20250119T215547Z
UID:7068-1737486000-1737491400@mascentraljersey.org
SUMMARY:College and Young Professional Sisters' Halaqa
DESCRIPTION:
URL:https://mascentraljersey.org/event/college-and-young-professional-sisters-halaqa/
LOCATION:Youth Lounge 2nd Flr\, 445 Georges Rd\, North Brunswick Township\, NJ\, 8905\, United States
CATEGORIES:Youth
ATTACH;FMTTYPE=image/jpeg:https://mascentraljersey.org/wp-content/uploads/2024/12/halaqa-1.jpg
END:VEVENT
BEGIN:VEVENT
DTSTART;TZID=America/New_York:20250121T190000
DTEND;TZID=America/New_York:20250121T203000
DTSTAMP:20260420T033744
CREATED:20250119T215807Z
LAST-MODIFIED:20250119T215807Z
UID:7071-1737486000-1737491400@mascentraljersey.org
SUMMARY:College and Young Professional Brothers
DESCRIPTION:
URL:https://mascentraljersey.org/event/college-and-young-professional-brothers/
LOCATION:Youth Lounge 2nd Flr\, 445 Georges Rd\, North Brunswick Township\, NJ\, 8905\, United States
CATEGORIES:Youth
ATTACH;FMTTYPE=image/jpeg:https://mascentraljersey.org/wp-content/uploads/2024/12/muslim-mens-collective.jpg
END:VEVENT
BEGIN:VEVENT
DTSTART;TZID=America/New_York:20250121T190000
DTEND;TZID=America/New_York:20250121T203000
DTSTAMP:20260420T033744
CREATED:20250119T215547Z
LAST-MODIFIED:20250119T215547Z
UID:7068-1737486000-1737491400@mascentraljersey.org
SUMMARY:College and Young Professional Sisters' Halaqa
DESCRIPTION:
URL:https://mascentraljersey.org/event/college-and-young-professional-sisters-halaqa/
LOCATION:Youth Lounge 2nd Flr\, 445 Georges Rd\, North Brunswick Township\, NJ\, 8905\, United States
CATEGORIES:Youth
ATTACH;FMTTYPE=image/jpeg:https://mascentraljersey.org/wp-content/uploads/2024/12/halaqa-1.jpg
END:VEVENT
BEGIN:VEVENT
DTSTART;TZID=America/New_York:20250121T190000
DTEND;TZID=America/New_York:20250121T203000
DTSTAMP:20260420T033744
CREATED:20250119T215807Z
LAST-MODIFIED:20250119T215807Z
UID:7071-1737486000-1737491400@mascentraljersey.org
SUMMARY:College and Young Professional Brothers
DESCRIPTION:
URL:https://mascentraljersey.org/event/college-and-young-professional-brothers/
LOCATION:Youth Lounge 2nd Flr\, 445 Georges Rd\, North Brunswick Township\, NJ\, 8905\, United States
CATEGORIES:Youth
ATTACH;FMTTYPE=image/jpeg:https://mascentraljersey.org/wp-content/uploads/2024/12/muslim-mens-collective.jpg
END:VEVENT
BEGIN:VEVENT
DTSTART;TZID=America/New_York:20250121T190000
DTEND;TZID=America/New_York:20250121T203000
DTSTAMP:20260420T033744
CREATED:20250119T215547Z
LAST-MODIFIED:20250119T215547Z
UID:7068-1737486000-1737491400@mascentraljersey.org
SUMMARY:College and Young Professional Sisters' Halaqa
DESCRIPTION:
URL:https://mascentraljersey.org/event/college-and-young-professional-sisters-halaqa/
LOCATION:Youth Lounge 2nd Flr\, 445 Georges Rd\, North Brunswick Township\, NJ\, 8905\, United States
CATEGORIES:Youth
ATTACH;FMTTYPE=image/jpeg:https://mascentraljersey.org/wp-content/uploads/2024/12/halaqa-1.jpg
END:VEVENT
BEGIN:VEVENT
DTSTART;TZID=America/New_York:20250121T190000
DTEND;TZID=America/New_York:20250121T203000
DTSTAMP:20260420T033744
CREATED:20250119T215807Z
LAST-MODIFIED:20250119T215807Z
UID:7071-1737486000-1737491400@mascentraljersey.org
SUMMARY:College and Young Professional Brothers
DESCRIPTION:
URL:https://mascentraljersey.org/event/college-and-young-professional-brothers/
LOCATION:Youth Lounge 2nd Flr\, 445 Georges Rd\, North Brunswick Township\, NJ\, 8905\, United States
CATEGORIES:Youth
ATTACH;FMTTYPE=image/jpeg:https://mascentraljersey.org/wp-content/uploads/2024/12/muslim-mens-collective.jpg
END:VEVENT
BEGIN:VEVENT
DTSTART;TZID=America/New_York:20250121T190000
DTEND;TZID=America/New_York:20250121T203000
DTSTAMP:20260420T033744
CREATED:20250119T215547Z
LAST-MODIFIED:20250119T215547Z
UID:7068-1737486000-1737491400@mascentraljersey.org
SUMMARY:College and Young Professional Sisters' Halaqa
DESCRIPTION:
URL:https://mascentraljersey.org/event/college-and-young-professional-sisters-halaqa/
LOCATION:Youth Lounge 2nd Flr\, 445 Georges Rd\, North Brunswick Township\, NJ\, 8905\, United States
CATEGORIES:Youth
ATTACH;FMTTYPE=image/jpeg:https://mascentraljersey.org/wp-content/uploads/2024/12/halaqa-1.jpg
END:VEVENT
BEGIN:VEVENT
DTSTART;TZID=America/New_York:20250121T190000
DTEND;TZID=America/New_York:20250121T203000
DTSTAMP:20260420T033744
CREATED:20250119T215807Z
LAST-MODIFIED:20250119T215807Z
UID:7071-1737486000-1737491400@mascentraljersey.org
SUMMARY:College and Young Professional Brothers
DESCRIPTION:
URL:https://mascentraljersey.org/event/college-and-young-professional-brothers/
LOCATION:Youth Lounge 2nd Flr\, 445 Georges Rd\, North Brunswick Township\, NJ\, 8905\, United States
CATEGORIES:Youth
ATTACH;FMTTYPE=image/jpeg:https://mascentraljersey.org/wp-content/uploads/2024/12/muslim-mens-collective.jpg
END:VEVENT
BEGIN:VEVENT
DTSTART;TZID=America/New_York:20250121T190000
DTEND;TZID=America/New_York:20250121T203000
DTSTAMP:20260420T033744
CREATED:20250119T215547Z
LAST-MODIFIED:20250119T215547Z
UID:7068-1737486000-1737491400@mascentraljersey.org
SUMMARY:College and Young Professional Sisters' Halaqa
DESCRIPTION:
URL:https://mascentraljersey.org/event/college-and-young-professional-sisters-halaqa/
LOCATION:Youth Lounge 2nd Flr\, 445 Georges Rd\, North Brunswick Township\, NJ\, 8905\, United States
CATEGORIES:Youth
ATTACH;FMTTYPE=image/jpeg:https://mascentraljersey.org/wp-content/uploads/2024/12/halaqa-1.jpg
END:VEVENT
BEGIN:VEVENT
DTSTART;TZID=America/New_York:20250121T190000
DTEND;TZID=America/New_York:20250121T203000
DTSTAMP:20260420T033744
CREATED:20250119T215807Z
LAST-MODIFIED:20250119T215807Z
UID:7071-1737486000-1737491400@mascentraljersey.org
SUMMARY:College and Young Professional Brothers
DESCRIPTION:
URL:https://mascentraljersey.org/event/college-and-young-professional-brothers/
LOCATION:Youth Lounge 2nd Flr\, 445 Georges Rd\, North Brunswick Township\, NJ\, 8905\, United States
CATEGORIES:Youth
ATTACH;FMTTYPE=image/jpeg:https://mascentraljersey.org/wp-content/uploads/2024/12/muslim-mens-collective.jpg
END:VEVENT
BEGIN:VEVENT
DTSTART;TZID=America/New_York:20250121T190000
DTEND;TZID=America/New_York:20250121T203000
DTSTAMP:20260420T033744
CREATED:20250119T215547Z
LAST-MODIFIED:20250119T215547Z
UID:7068-1737486000-1737491400@mascentraljersey.org
SUMMARY:College and Young Professional Sisters' Halaqa
DESCRIPTION:
URL:https://mascentraljersey.org/event/college-and-young-professional-sisters-halaqa/
LOCATION:Youth Lounge 2nd Flr\, 445 Georges Rd\, North Brunswick Township\, NJ\, 8905\, United States
CATEGORIES:Youth
ATTACH;FMTTYPE=image/jpeg:https://mascentraljersey.org/wp-content/uploads/2024/12/halaqa-1.jpg
END:VEVENT
BEGIN:VEVENT
DTSTART;TZID=America/New_York:20250121T190000
DTEND;TZID=America/New_York:20250121T203000
DTSTAMP:20260420T033744
CREATED:20250119T215807Z
LAST-MODIFIED:20250119T215807Z
UID:7071-1737486000-1737491400@mascentraljersey.org
SUMMARY:College and Young Professional Brothers
DESCRIPTION:
URL:https://mascentraljersey.org/event/college-and-young-professional-brothers/
LOCATION:Youth Lounge 2nd Flr\, 445 Georges Rd\, North Brunswick Township\, NJ\, 8905\, United States
CATEGORIES:Youth
ATTACH;FMTTYPE=image/jpeg:https://mascentraljersey.org/wp-content/uploads/2024/12/muslim-mens-collective.jpg
END:VEVENT
BEGIN:VEVENT
DTSTART;TZID=America/New_York:20250121T190000
DTEND;TZID=America/New_York:20250121T203000
DTSTAMP:20260420T033744
CREATED:20250119T215547Z
LAST-MODIFIED:20250119T215547Z
UID:7068-1737486000-1737491400@mascentraljersey.org
SUMMARY:College and Young Professional Sisters' Halaqa
DESCRIPTION:
URL:https://mascentraljersey.org/event/college-and-young-professional-sisters-halaqa/
LOCATION:Youth Lounge 2nd Flr\, 445 Georges Rd\, North Brunswick Township\, NJ\, 8905\, United States
CATEGORIES:Youth
ATTACH;FMTTYPE=image/jpeg:https://mascentraljersey.org/wp-content/uploads/2024/12/halaqa-1.jpg
END:VEVENT
BEGIN:VEVENT
DTSTART;TZID=America/New_York:20250121T190000
DTEND;TZID=America/New_York:20250121T203000
DTSTAMP:20260420T033744
CREATED:20250119T215807Z
LAST-MODIFIED:20250119T215807Z
UID:7071-1737486000-1737491400@mascentraljersey.org
SUMMARY:College and Young Professional Brothers
DESCRIPTION:
URL:https://mascentraljersey.org/event/college-and-young-professional-brothers/
LOCATION:Youth Lounge 2nd Flr\, 445 Georges Rd\, North Brunswick Township\, NJ\, 8905\, United States
CATEGORIES:Youth
ATTACH;FMTTYPE=image/jpeg:https://mascentraljersey.org/wp-content/uploads/2024/12/muslim-mens-collective.jpg
END:VEVENT
BEGIN:VEVENT
DTSTART;TZID=America/New_York:20250121T190000
DTEND;TZID=America/New_York:20250121T203000
DTSTAMP:20260420T033744
CREATED:20250119T215547Z
LAST-MODIFIED:20250119T215547Z
UID:7068-1737486000-1737491400@mascentraljersey.org
SUMMARY:College and Young Professional Sisters' Halaqa
DESCRIPTION:
URL:https://mascentraljersey.org/event/college-and-young-professional-sisters-halaqa/
LOCATION:Youth Lounge 2nd Flr\, 445 Georges Rd\, North Brunswick Township\, NJ\, 8905\, United States
CATEGORIES:Youth
ATTACH;FMTTYPE=image/jpeg:https://mascentraljersey.org/wp-content/uploads/2024/12/halaqa-1.jpg
END:VEVENT
BEGIN:VEVENT
DTSTART;TZID=America/New_York:20250121T190000
DTEND;TZID=America/New_York:20250121T203000
DTSTAMP:20260420T033744
CREATED:20250119T215807Z
LAST-MODIFIED:20250119T215807Z
UID:7071-1737486000-1737491400@mascentraljersey.org
SUMMARY:College and Young Professional Brothers
DESCRIPTION:
URL:https://mascentraljersey.org/event/college-and-young-professional-brothers/
LOCATION:Youth Lounge 2nd Flr\, 445 Georges Rd\, North Brunswick Township\, NJ\, 8905\, United States
CATEGORIES:Youth
ATTACH;FMTTYPE=image/jpeg:https://mascentraljersey.org/wp-content/uploads/2024/12/muslim-mens-collective.jpg
END:VEVENT
BEGIN:VEVENT
DTSTART;TZID=America/New_York:20250121T190000
DTEND;TZID=America/New_York:20250121T203000
DTSTAMP:20260420T033744
CREATED:20250119T215547Z
LAST-MODIFIED:20250119T215547Z
UID:7068-1737486000-1737491400@mascentraljersey.org
SUMMARY:College and Young Professional Sisters' Halaqa
DESCRIPTION:
URL:https://mascentraljersey.org/event/college-and-young-professional-sisters-halaqa/
LOCATION:Youth Lounge 2nd Flr\, 445 Georges Rd\, North Brunswick Township\, NJ\, 8905\, United States
CATEGORIES:Youth
ATTACH;FMTTYPE=image/jpeg:https://mascentraljersey.org/wp-content/uploads/2024/12/halaqa-1.jpg
END:VEVENT
BEGIN:VEVENT
DTSTART;TZID=America/New_York:20250121T190000
DTEND;TZID=America/New_York:20250121T203000
DTSTAMP:20260420T033744
CREATED:20250119T215807Z
LAST-MODIFIED:20250119T215807Z
UID:7071-1737486000-1737491400@mascentraljersey.org
SUMMARY:College and Young Professional Brothers
DESCRIPTION:
URL:https://mascentraljersey.org/event/college-and-young-professional-brothers/
LOCATION:Youth Lounge 2nd Flr\, 445 Georges Rd\, North Brunswick Township\, NJ\, 8905\, United States
CATEGORIES:Youth
ATTACH;FMTTYPE=image/jpeg:https://mascentraljersey.org/wp-content/uploads/2024/12/muslim-mens-collective.jpg
END:VEVENT
BEGIN:VEVENT
DTSTART;TZID=America/New_York:20250121T190000
DTEND;TZID=America/New_York:20250121T203000
DTSTAMP:20260420T033744
CREATED:20250119T215547Z
LAST-MODIFIED:20250119T215547Z
UID:7068-1737486000-1737491400@mascentraljersey.org
SUMMARY:College and Young Professional Sisters' Halaqa
DESCRIPTION:
URL:https://mascentraljersey.org/event/college-and-young-professional-sisters-halaqa/
LOCATION:Youth Lounge 2nd Flr\, 445 Georges Rd\, North Brunswick Township\, NJ\, 8905\, United States
CATEGORIES:Youth
ATTACH;FMTTYPE=image/jpeg:https://mascentraljersey.org/wp-content/uploads/2024/12/halaqa-1.jpg
END:VEVENT
BEGIN:VEVENT
DTSTART;TZID=America/New_York:20250121T190000
DTEND;TZID=America/New_York:20250121T203000
DTSTAMP:20260420T033744
CREATED:20250119T215807Z
LAST-MODIFIED:20250119T215807Z
UID:7071-1737486000-1737491400@mascentraljersey.org
SUMMARY:College and Young Professional Brothers
DESCRIPTION:
URL:https://mascentraljersey.org/event/college-and-young-professional-brothers/
LOCATION:Youth Lounge 2nd Flr\, 445 Georges Rd\, North Brunswick Township\, NJ\, 8905\, United States
CATEGORIES:Youth
ATTACH;FMTTYPE=image/jpeg:https://mascentraljersey.org/wp-content/uploads/2024/12/muslim-mens-collective.jpg
END:VEVENT
END:VCALENDAR