BEGIN:VCALENDAR
VERSION:2.0
PRODID:-//MAS Youth Center of NJ - ECPv6.15.14//NONSGML v1.0//EN
CALSCALE:GREGORIAN
METHOD:PUBLISH
X-WR-CALNAME:MAS Youth Center of NJ
X-ORIGINAL-URL:https://mascentraljersey.org
X-WR-CALDESC:Events for MAS Youth Center of NJ
REFRESH-INTERVAL;VALUE=DURATION:PT1H
X-Robots-Tag:noindex
X-PUBLISHED-TTL:PT1H
BEGIN:VTIMEZONE
TZID:America/New_York
BEGIN:DAYLIGHT
TZOFFSETFROM:-0500
TZOFFSETTO:-0400
TZNAME:EDT
DTSTART:20240310T070000
END:DAYLIGHT
BEGIN:STANDARD
TZOFFSETFROM:-0400
TZOFFSETTO:-0500
TZNAME:EST
DTSTART:20241103T060000
END:STANDARD
BEGIN:DAYLIGHT
TZOFFSETFROM:-0500
TZOFFSETTO:-0400
TZNAME:EDT
DTSTART:20250309T070000
END:DAYLIGHT
BEGIN:STANDARD
TZOFFSETFROM:-0400
TZOFFSETTO:-0500
TZNAME:EST
DTSTART:20251102T060000
END:STANDARD
BEGIN:DAYLIGHT
TZOFFSETFROM:-0500
TZOFFSETTO:-0400
TZNAME:EDT
DTSTART:20260308T070000
END:DAYLIGHT
BEGIN:STANDARD
TZOFFSETFROM:-0400
TZOFFSETTO:-0500
TZNAME:EST
DTSTART:20261101T060000
END:STANDARD
END:VTIMEZONE
BEGIN:VEVENT
DTSTART;TZID=America/New_York:20250105T060000
DTEND;TZID=America/New_York:20250105T080000
DTSTAMP:20260419T162044
CREATED:20250119T203423Z
LAST-MODIFIED:20250119T203423Z
UID:7049-1736056800-1736064000@mascentraljersey.org
SUMMARY:Brothers Weekly Breakfast
DESCRIPTION:
URL:https://mascentraljersey.org/event/brothers-weekly-breakfast/
LOCATION:Main Hall 1st Flr\, 445 Georges Rd\, North Brunswick Township\, NJ\, 8905\, United States
CATEGORIES:Community Events
ATTACH;FMTTYPE=image/jpeg:https://mascentraljersey.org/wp-content/uploads/2025/01/Brothers-weekly-breakfast.jpg
END:VEVENT
END:VCALENDAR