BEGIN:VCALENDAR
VERSION:2.0
PRODID:-//MAS Youth Center of NJ - ECPv6.15.14//NONSGML v1.0//EN
CALSCALE:GREGORIAN
METHOD:PUBLISH
X-WR-CALNAME:MAS Youth Center of NJ
X-ORIGINAL-URL:https://mascentraljersey.org
X-WR-CALDESC:Events for MAS Youth Center of NJ
REFRESH-INTERVAL;VALUE=DURATION:PT1H
X-Robots-Tag:noindex
X-PUBLISHED-TTL:PT1H
BEGIN:VTIMEZONE
TZID:UTC
BEGIN:STANDARD
TZOFFSETFROM:+0000
TZOFFSETTO:+0000
TZNAME:UTC
DTSTART:20210101T000000
END:STANDARD
END:VTIMEZONE
BEGIN:VEVENT
DTSTART;TZID=UTC:20221105T190000
DTEND;TZID=UTC:20221105T220000
DTSTAMP:20260419T153004
CREATED:20221105T120046Z
LAST-MODIFIED:20221106T012132Z
UID:361-1667674800-1667685600@mascentraljersey.org
SUMMARY:Family Night
DESCRIPTION:Content is protected.
URL:https://mascentraljersey.org/event/presentation/
CATEGORIES:Activities
END:VEVENT
END:VCALENDAR