BEGIN:VCALENDAR
VERSION:2.0
PRODID:-//MAS Youth Center of NJ - ECPv6.15.14//NONSGML v1.0//EN
CALSCALE:GREGORIAN
METHOD:PUBLISH
X-WR-CALNAME:MAS Youth Center of NJ
X-ORIGINAL-URL:https://mascentraljersey.org
X-WR-CALDESC:Events for MAS Youth Center of NJ
REFRESH-INTERVAL;VALUE=DURATION:PT1H
X-Robots-Tag:noindex
X-PUBLISHED-TTL:PT1H
BEGIN:VTIMEZONE
TZID:UTC
BEGIN:STANDARD
TZOFFSETFROM:+0000
TZOFFSETTO:+0000
TZNAME:UTC
DTSTART:20220101T000000
END:STANDARD
END:VTIMEZONE
BEGIN:VEVENT
DTSTART;TZID=UTC:20230204T070000
DTEND;TZID=UTC:20230204T220000
DTSTAMP:20260414T003737
CREATED:20230202T065720Z
LAST-MODIFIED:20230202T073012Z
UID:4023-1675494000-1675548000@mascentraljersey.org
SUMMARY:Family Night | Dr. Suzy Ismail
DESCRIPTION:Join us this Saturday for Family Night at MYCNJ\, featuring our guest Dr. Suzy Ismail! Registration is free\, and registered attendees have a chance to win an Amazon gift card! \n*Donations to cover family night expenses are welcome* \nRegistration is required. Click the link below:\nbit.ly/mycnj-family-night
URL:https://mascentraljersey.org/event/family-night-dr-suzy-ismail/
ATTACH;FMTTYPE=image/jpeg:https://mascentraljersey.org/wp-content/uploads/2023/02/328036285_730234508614985_7113169912290740691_n.jpg
END:VEVENT
END:VCALENDAR